BEGIN:VCALENDAR
VERSION:2.0
PRODID:SchoolNow
CALSCALE:GREGORIAN
BEGIN:VEVENT
UID:61712e00-585f-11f0-b3ff-0ebd4930cfaf
DTSTAMP:20251217T020517Z
SUMMARY:Scholastic Book Fair
URL;VALUE=URI:https://www.tusd.org/schools/carr/calendar/8382066/scholastic
 -book-fair
DTSTART;VALUE=DATE:20260309
DTEND;VALUE=DATE:20260314
END:VEVENT
END:VCALENDAR
