BEGIN:VCALENDAR
VERSION:2.0
PRODID:SchoolNow
CALSCALE:GREGORIAN
BEGIN:VEVENT
UID:61712464-585f-11f0-952d-0ebd4930cfaf
DTSTAMP:20251217T020517Z
SUMMARY:Staff Development Day - No School!
URL;VALUE=URI:https://www.tusd.org/schools/carr/calendar/8382064/staff-deve
 lopment-day-no-school
DTSTART;VALUE=DATE:20260306
DTEND;VALUE=DATE:20260307
END:VEVENT
END:VCALENDAR
