BEGIN:VCALENDAR
VERSION:2.0
PRODID:SchoolNow
CALSCALE:GREGORIAN
BEGIN:VEVENT
UID:61711cda-585f-11f0-a1d9-0ebd4930cfaf
DTSTAMP:20251217T020517Z
SUMMARY:Carr STEAM Fair w/PTA Asso. Mtg
URL;VALUE=URI:https://www.tusd.org/schools/carr/calendar/8382055/carr-steam
 -fair-w-pta-asso-mtg
DTSTART:20260221T010000Z
DTEND:20260221T020000Z
END:VEVENT
END:VCALENDAR
