BEGIN:VCALENDAR
VERSION:2.0
PRODID:SchoolNow
CALSCALE:GREGORIAN
BEGIN:VEVENT
UID:61711988-585f-11f0-8f45-0ebd4930cfaf
DTSTAMP:20251217T020517Z
SUMMARY:Presidents' Day - No School!
URL;VALUE=URI:https://www.tusd.org/schools/carr/calendar/8382051/presidents
 -day-no-school
DTSTART;VALUE=DATE:20260216
DTEND;VALUE=DATE:20260217
END:VEVENT
END:VCALENDAR
