BEGIN:VCALENDAR
VERSION:2.0
PRODID:SchoolNow
CALSCALE:GREGORIAN
BEGIN:VEVENT
UID:617117bc-585f-11f0-82bd-0ebd4930cfaf
DTSTAMP:20251217T020517Z
SUMMARY:PTA Family Dance @ 6pm
URL;VALUE=URI:https://www.tusd.org/schools/carr/calendar/8382048/pta-family
 -dance-6pm
DTSTART:20260214T020000Z
DTEND:20260214T030000Z
END:VEVENT
END:VCALENDAR
