BEGIN:VCALENDAR
VERSION:2.0
PRODID:SchoolNow
CALSCALE:GREGORIAN
BEGIN:VEVENT
UID:617116e0-585f-11f0-ad58-0ebd4930cfaf
DTSTAMP:20251217T020517Z
SUMMARY:PTA Board Meeting
URL;VALUE=URI:https://www.tusd.org/schools/carr/calendar/8382047/pta-board-
 meeting
DTSTART:20260213T010000Z
DTEND:20260213T020000Z
END:VEVENT
END:VCALENDAR
