BEGIN:VCALENDAR
VERSION:2.0
PRODID:SchoolNow
CALSCALE:GREGORIAN
BEGIN:VEVENT
UID:6171142e-585f-11f0-b806-0ebd4930cfaf
DTSTAMP:20251217T020517Z
SUMMARY:Great Kindness Challenge Week
URL;VALUE=URI:https://www.tusd.org/schools/carr/calendar/8382044/great-kind
 ness-challenge-week
DTSTART;VALUE=DATE:20260126
DTEND;VALUE=DATE:20260131
END:VEVENT
END:VCALENDAR
