BEGIN:VCALENDAR
VERSION:2.0
PRODID:SchoolNow
CALSCALE:GREGORIAN
BEGIN:VEVENT
UID:61711348-585f-11f0-b6ed-0ebd4930cfaf
DTSTAMP:20251217T020517Z
SUMMARY:Parent Confs/ Early Dismissal at 2:12pm for Grades 1-5
URL;VALUE=URI:https://www.tusd.org/schools/carr/calendar/8382043/parent-con
 fs-early-dismissal-at-2-12pm-for-grades-1-5
DTSTART;VALUE=DATE:20260120
DTEND;VALUE=DATE:20260130
END:VEVENT
END:VCALENDAR
