BEGIN:VCALENDAR
VERSION:2.0
PRODID:SchoolNow
CALSCALE:GREGORIAN
BEGIN:VEVENT
UID:61711244-585f-11f0-8fb4-0ebd4930cfaf
DTSTAMP:20251217T020517Z
SUMMARY:Martin Luther King Jr. Day - No School
URL;VALUE=URI:https://www.tusd.org/schools/carr/calendar/8382042/martin-lut
 her-king-jr-day-no-school
DTSTART;VALUE=DATE:20260119
DTEND;VALUE=DATE:20260120
END:VEVENT
END:VCALENDAR
