BEGIN:VCALENDAR
VERSION:2.0
PRODID:SchoolNow
CALSCALE:GREGORIAN
BEGIN:VEVENT
UID:617110dc-585f-11f0-85db-0ebd4930cfaf
DTSTAMP:20251217T020517Z
SUMMARY:PTA Snow Day
URL;VALUE=URI:https://www.tusd.org/schools/carr/calendar/8382041/pta-snow-d
 ay
DTSTART;VALUE=DATE:20260116
DTEND;VALUE=DATE:20260117
END:VEVENT
END:VCALENDAR
