BEGIN:VCALENDAR
VERSION:2.0
PRODID:SchoolNow
CALSCALE:GREGORIAN
BEGIN:VEVENT
UID:61710e70-585f-11f0-96ff-0ebd4930cfaf
DTSTAMP:20251217T020517Z
SUMMARY:Achievement Reports Released
URL;VALUE=URI:https://www.tusd.org/schools/carr/calendar/8382040/achievemen
 t-reports-released
DTSTART;VALUE=DATE:20260116
DTEND;VALUE=DATE:20260117
END:VEVENT
END:VCALENDAR
