BEGIN:VCALENDAR
VERSION:2.0
PRODID:SchoolNow
CALSCALE:GREGORIAN
BEGIN:VEVENT
UID:61710ca4-585f-11f0-b548-0ebd4930cfaf
DTSTAMP:20251217T020517Z
SUMMARY:ELMAC & Parent Ed Night @ 5:30pm
URL;VALUE=URI:https://www.tusd.org/schools/carr/calendar/8382038/elmac-pare
 nt-ed-night-5-30pm
DTSTART:20260109T010000Z
DTEND:20260109T020000Z
END:VEVENT
END:VCALENDAR
