BEGIN:VCALENDAR
VERSION:2.0
PRODID:SchoolNow
CALSCALE:GREGORIAN
BEGIN:VEVENT
UID:61710bbe-585f-11f0-9337-0ebd4930cfaf
DTSTAMP:20251217T020517Z
SUMMARY:Winter Break - No School
URL;VALUE=URI:https://www.tusd.org/schools/carr/calendar/8382037/winter-bre
 ak-no-school
DTSTART;VALUE=DATE:20251222
DTEND;VALUE=DATE:20260103
END:VEVENT
END:VCALENDAR
