BEGIN:VCALENDAR
VERSION:2.0
PRODID:SchoolNow
CALSCALE:GREGORIAN
BEGIN:VEVENT
UID:617109f2-585f-11f0-a3e2-0ebd4930cfaf
DTSTAMP:20251217T020517Z
SUMMARY:Chorus Assembly Performance
URL;VALUE=URI:https://www.tusd.org/schools/carr/calendar/8382035/chorus-ass
 embly-performance
DTSTART:20251212T171500Z
DTEND:20251212T181500Z
END:VEVENT
END:VCALENDAR
