BEGIN:VCALENDAR
VERSION:2.0
PRODID:SchoolNow
CALSCALE:GREGORIAN
BEGIN:VEVENT
UID:617104e8-585f-11f0-b16a-0ebd4930cfaf
DTSTAMP:20251217T020517Z
SUMMARY:Thanksgiving Break
URL;VALUE=URI:https://www.tusd.org/schools/carr/calendar/8382032/thanksgivi
 ng-break
DTSTART;VALUE=DATE:20251124
DTEND;VALUE=DATE:20251129
END:VEVENT
END:VCALENDAR
