BEGIN:VCALENDAR
VERSION:2.0
PRODID:SchoolNow
CALSCALE:GREGORIAN
BEGIN:VEVENT
UID:6171040c-585f-11f0-a7b5-0ebd4930cfaf
DTSTAMP:20251217T020517Z
SUMMARY:PTA Board Meeting @ 5pm
URL;VALUE=URI:https://www.tusd.org/schools/carr/calendar/8382031/pta-board-
 meeting-5pm
DTSTART:20251121T010000Z
DTEND:20251121T020000Z
END:VEVENT
END:VCALENDAR
