BEGIN:VCALENDAR
VERSION:2.0
PRODID:SchoolNow
CALSCALE:GREGORIAN
BEGIN:VEVENT
UID:6170fce6-585f-11f0-9234-0ebd4930cfaf
DTSTAMP:20251217T020517Z
SUMMARY:Trunk or Treat @ 6:00pm
URL;VALUE=URI:https://www.tusd.org/schools/carr/calendar/8382023/trunk-or-t
 reat-6-00pm
DTSTART:20251031T010000Z
DTEND:20251031T020000Z
END:VEVENT
END:VCALENDAR
