BEGIN:VCALENDAR
VERSION:2.0
PRODID:SchoolNow
CALSCALE:GREGORIAN
BEGIN:VEVENT
UID:6170fbf6-585f-11f0-b3cb-0ebd4930cfaf
DTSTAMP:20251217T020517Z
SUMMARY:Red Ribbon Week
URL;VALUE=URI:https://www.tusd.org/schools/carr/calendar/8382022/red-ribbon
 -week
DTSTART;VALUE=DATE:20251023
DTEND;VALUE=DATE:20251101
END:VEVENT
END:VCALENDAR
