BEGIN:VCALENDAR
VERSION:2.0
PRODID:SchoolNow
CALSCALE:GREGORIAN
BEGIN:VEVENT
UID:6170faf2-585f-11f0-b309-0ebd4930cfaf
DTSTAMP:20251217T020517Z
SUMMARY:TEF/Skechers Walk
URL;VALUE=URI:https://www.tusd.org/schools/carr/calendar/8382021/tef-skeche
 rs-walk
DTSTART:20251019T160000Z
DTEND:20251019T170000Z
END:VEVENT
END:VCALENDAR
