BEGIN:VCALENDAR
VERSION:2.0
PRODID:SchoolNow
CALSCALE:GREGORIAN
BEGIN:VEVENT
UID:6170ecb0-585f-11f0-ac72-0ebd4930cfaf
DTSTAMP:20251217T020517Z
SUMMARY:PTA Board Meeting
URL;VALUE=URI:https://www.tusd.org/schools/carr/calendar/8382019/pta-board-
 meeting
DTSTART:20251017T000000Z
DTEND:20251017T010000Z
END:VEVENT
END:VCALENDAR
