BEGIN:VCALENDAR
VERSION:2.0
PRODID:SchoolNow
CALSCALE:GREGORIAN
BEGIN:VEVENT
UID:6170ebc0-585f-11f0-98a5-0ebd4930cfaf
DTSTAMP:20251217T020517Z
SUMMARY:CA Great Shake Out at 10:16am
URL;VALUE=URI:https://www.tusd.org/schools/carr/calendar/8382018/ca-great-s
 hake-out-at-10-16am
DTSTART:20251016T171600Z
DTEND:20251016T174600Z
END:VEVENT
END:VCALENDAR
