BEGIN:VCALENDAR
VERSION:2.0
PRODID:SchoolNow
CALSCALE:GREGORIAN
BEGIN:VEVENT
UID:6170e8c8-585f-11f0-8883-0ebd4930cfaf
DTSTAMP:20251217T020517Z
SUMMARY:Make-up/Retake Picture Day
URL;VALUE=URI:https://www.tusd.org/schools/carr/calendar/8382016/make-up-re
 take-picture-day
DTSTART;VALUE=DATE:20251014
DTEND;VALUE=DATE:20251015
END:VEVENT
END:VCALENDAR
