BEGIN:VCALENDAR
VERSION:2.0
PRODID:SchoolNow
CALSCALE:GREGORIAN
BEGIN:VEVENT
UID:6170e67a-585f-11f0-9375-0ebd4930cfaf
DTSTAMP:20251217T020517Z
SUMMARY:Progress Reports Released
URL;VALUE=URI:https://www.tusd.org/schools/carr/calendar/8382015/progress-r
 eports-released
DTSTART;VALUE=DATE:20251010
DTEND;VALUE=DATE:20251011
END:VEVENT
END:VCALENDAR
