BEGIN:VCALENDAR
VERSION:2.0
PRODID:SchoolNow
CALSCALE:GREGORIAN
BEGIN:VEVENT
UID:6170de50-585f-11f0-a010-0ebd4930cfaf
DTSTAMP:20251217T020517Z
SUMMARY:DI Families Coffee w/ Principal
URL;VALUE=URI:https://www.tusd.org/schools/carr/calendar/8382012/di-familie
 s-coffee-w-principal
DTSTART:20250926T164500Z
DTEND:20250926T174500Z
END:VEVENT
END:VCALENDAR
