BEGIN:VCALENDAR
VERSION:2.0
PRODID:SchoolNow
CALSCALE:GREGORIAN
BEGIN:VEVENT
UID:6170dc8e-585f-11f0-a3f5-0ebd4930cfaf
DTSTAMP:20251217T020517Z
SUMMARY:SSC #1 @ 4pm
URL;VALUE=URI:https://www.tusd.org/schools/carr/calendar/8382011/ssc-1-4pm
DTSTART:20250925T230000Z
DTEND:20250926T000000Z
END:VEVENT
END:VCALENDAR
