BEGIN:VCALENDAR
VERSION:2.0
PRODID:SchoolNow
CALSCALE:GREGORIAN
BEGIN:VEVENT
UID:6170dad6-585f-11f0-b551-0ebd4930cfaf
DTSTAMP:20251217T020517Z
SUMMARY:Staff Development Day - No School!
URL;VALUE=URI:https://www.tusd.org/schools/carr/calendar/8382009/staff-deve
 lopment-day-no-school
DTSTART;VALUE=DATE:20250919
DTEND;VALUE=DATE:20250920
END:VEVENT
END:VCALENDAR
