BEGIN:VCALENDAR
VERSION:2.0
PRODID:SchoolNow
CALSCALE:GREGORIAN
BEGIN:VEVENT
UID:6170d9f0-585f-11f0-825b-0ebd4930cfaf
DTSTAMP:20251217T020517Z
SUMMARY:1st-5th Grade Back to School Night with Early Dismissal at 2:12pm!
URL;VALUE=URI:https://www.tusd.org/schools/carr/calendar/8382008/1st-5th-gr
 ade-back-to-school-night-with-early-dismissal-at-2-12pm
DTSTART:20250919T000000Z
DTEND:20250919T010000Z
END:VEVENT
END:VCALENDAR
