BEGIN:VCALENDAR
VERSION:2.0
PRODID:SchoolNow
CALSCALE:GREGORIAN
BEGIN:VEVENT
UID:6170d57c-585f-11f0-bc14-0ebd4930cfaf
DTSTAMP:20251217T020517Z
SUMMARY:First Flag Assembly
URL;VALUE=URI:https://www.tusd.org/schools/carr/calendar/8382003/first-flag
 -assembly
DTSTART:20250829T160500Z
DTEND:20250829T163500Z
END:VEVENT
END:VCALENDAR
