BEGIN:VCALENDAR
VERSION:2.0
PRODID:SchoolNow
CALSCALE:GREGORIAN
BEGIN:VEVENT
UID:6170d48c-585f-11f0-88f9-0ebd4930cfaf
DTSTAMP:20251217T020517Z
SUMMARY:Coffee & Chat with The Principal
URL;VALUE=URI:https://www.tusd.org/schools/carr/calendar/8382002/coffee-cha
 t-with-the-principal
DTSTART:20250822T161500Z
DTEND:20250822T171500Z
END:VEVENT
END:VCALENDAR
