BEGIN:VCALENDAR
VERSION:2.0
PRODID:SchoolNow
CALSCALE:GREGORIAN
BEGIN:VEVENT
UID:6170d1d0-585f-11f0-8af4-0ebd4930cfaf
DTSTAMP:20251217T020517Z
SUMMARY:Pop-In School Event from 3pm-5pm
URL;VALUE=URI:https://www.tusd.org/schools/carr/calendar/8381999/pop-in-sch
 ool-event-from-3pm-5pm
DTSTART:20250820T220000Z
DTEND:20250821T000000Z
END:VEVENT
END:VCALENDAR
