BEGIN:VCALENDAR
VERSION:2.0
PRODID:SchoolNow
CALSCALE:GREGORIAN
BEGIN:VEVENT
UID:6170d0d6-585f-11f0-9770-0ebd4930cfaf
DTSTAMP:20251217T020517Z
SUMMARY:Pop-In School Event from 3pm-5pm
URL;VALUE=URI:https://www.tusd.org/schools/carr/calendar/8381998/pop-in-sch
 ool-event-from-3pm-5pm
DTSTART:20250819T220000Z
DTEND:20250820T000000Z
END:VEVENT
END:VCALENDAR
