BEGIN:VCALENDAR
VERSION:2.0
PRODID:SchoolNow
CALSCALE:GREGORIAN
BEGIN:VEVENT
UID:454db950-6a5d-11ef-9898-0a58a9feac02
DTSTAMP:20251217T020517Z
SUMMARY:Teacher and Staff Appreciation Week
URL;VALUE=URI:https://www.tusd.org/schools/carr/calendar/6517906/teacher-an
 d-staff-appreciation-week
DTSTART;VALUE=DATE:20260504
DTEND;VALUE=DATE:20260509
END:VEVENT
END:VCALENDAR
