BEGIN:VCALENDAR
VERSION:2.0
PRODID:SchoolNow
CALSCALE:GREGORIAN
BEGIN:VEVENT
UID:454db504-6a5d-11ef-9a86-0a58a9feac02
DTSTAMP:20251217T020517Z
SUMMARY:Jewish American Heritage Month
URL;VALUE=URI:https://www.tusd.org/schools/carr/calendar/6517905/jewish-ame
 rican-heritage-month
DTSTART;VALUE=DATE:20260501
DTEND;VALUE=DATE:20260601
END:VEVENT
END:VCALENDAR
