BEGIN:VCALENDAR
VERSION:2.0
PRODID:SchoolNow
CALSCALE:GREGORIAN
BEGIN:VEVENT
UID:454db3ce-6a5d-11ef-a547-0a58a9feac02
DTSTAMP:20251217T020517Z
SUMMARY:Asian and Pacific American Heritage Month
URL;VALUE=URI:https://www.tusd.org/schools/carr/calendar/6517904/asian-and-
 pacific-american-heritage-month
DTSTART;VALUE=DATE:20260501
DTEND;VALUE=DATE:20260601
END:VEVENT
END:VCALENDAR
