BEGIN:VCALENDAR
VERSION:2.0
PRODID:SchoolNow
CALSCALE:GREGORIAN
BEGIN:VEVENT
UID:454daece-6a5d-11ef-bce3-0a58a9feac02
DTSTAMP:20251217T020517Z
SUMMARY:Earth Day
URL;VALUE=URI:https://www.tusd.org/schools/carr/calendar/6517902/earth-day
DTSTART;VALUE=DATE:20260422
DTEND;VALUE=DATE:20260423
END:VEVENT
END:VCALENDAR
