BEGIN:VCALENDAR
VERSION:2.0
PRODID:SchoolNow
CALSCALE:GREGORIAN
BEGIN:VEVENT
UID:8c9d1d72-5672-11ef-bf06-0a58a9feac02
DTSTAMP:20251217T020517Z
SUMMARY:Women's History Month
URL;VALUE=URI:https://www.tusd.org/schools/carr/calendar/6376293/womens-his
 tory-month
DTSTART;VALUE=DATE:20260301
DTEND;VALUE=DATE:20260401
END:VEVENT
END:VCALENDAR
