BEGIN:VCALENDAR
VERSION:2.0
PRODID:SchoolNow
CALSCALE:GREGORIAN
BEGIN:VEVENT
UID:5c29c4f2-e164-11ee-ab91-02334fdb99cb
DTSTAMP:20251217T020517Z
SUMMARY:Native American Heritage Month
URL;VALUE=URI:https://www.tusd.org/schools/carr/calendar/5536069/native-ame
 rican-heritage-month
DTSTART;VALUE=DATE:20251101
DTEND;VALUE=DATE:20251201
END:VEVENT
END:VCALENDAR
