BEGIN:VCALENDAR
VERSION:2.0
PRODID:SchoolNow
CALSCALE:GREGORIAN
BEGIN:VEVENT
UID:e67d4018-0e24-11f1-8304-0e832141a603
DTSTAMP:20260419T130508Z
SUMMARY:Spring Picture Day
URL;VALUE=URI:https://www.tusd.org/schools/arnold/calendar/8861557/spring-p
 icture-day
DTSTART;VALUE=DATE:20260224
DTEND;VALUE=DATE:20260225
END:VEVENT
END:VCALENDAR
