BEGIN:VCALENDAR
VERSION:2.0
PRODID:SchoolNow
CALSCALE:GREGORIAN
BEGIN:VEVENT
UID:e67d3dac-0e24-11f1-b18a-0e832141a603
DTSTAMP:20260419T130508Z
SUMMARY:Arnold STEAM fair
LOCATION:STEAM LAB
URL;VALUE=URI:https://www.tusd.org/schools/arnold/calendar/8861556/arnold-s
 team-fair
DTSTART:20260226T231500Z
DTEND:20260227T001500Z
END:VEVENT
END:VCALENDAR
