BEGIN:VCALENDAR
VERSION:2.0
PRODID:SchoolNow
CALSCALE:GREGORIAN
BEGIN:VEVENT
UID:100ae5c6-0af5-11f1-8b96-027231b563e3
DTSTAMP:20260419T130508Z
SUMMARY:ZOOM w/ PTA President
URL;VALUE=URI:https://www.tusd.org/schools/arnold/calendar/8856761/zoom-w-p
 ta-president
DTSTART:20260218T023000Z
DTEND:20260218T030000Z
END:VEVENT
END:VCALENDAR
