BEGIN:VCALENDAR
VERSION:2.0
PRODID:SchoolNow
CALSCALE:GREGORIAN
BEGIN:VEVENT
UID:100ae288-0af5-11f1-ae79-027231b563e3
DTSTAMP:20260419T130508Z
SUMMARY:Coffee w/ PTA President
LOCATION:staff lounge
URL;VALUE=URI:https://www.tusd.org/schools/arnold/calendar/8856760/coffee-w
 -pta-president
DTSTART:20260217T171500Z
DTEND:20260217T174500Z
END:VEVENT
END:VCALENDAR
