BEGIN:VCALENDAR
VERSION:2.0
PRODID:SchoolNow
CALSCALE:GREGORIAN
BEGIN:VEVENT
UID:afcc45ae-fad4-11f0-a498-0eba787b5a97
DTSTAMP:20260419T130508Z
SUMMARY:Tutu and Tie Day
URL;VALUE=URI:https://www.tusd.org/schools/arnold/calendar/8840673/tutu-and
 -tie-day
DTSTART;VALUE=DATE:20260202
DTEND;VALUE=DATE:20260203
END:VEVENT
END:VCALENDAR
