BEGIN:VCALENDAR
VERSION:2.0
PRODID:SchoolNow
CALSCALE:GREGORIAN
BEGIN:VEVENT
UID:afcc4388-fad4-11f0-9e72-0eba787b5a97
DTSTAMP:20260419T130508Z
SUMMARY:Math Field Day Try Outs
URL;VALUE=URI:https://www.tusd.org/schools/arnold/calendar/8840671/math-fie
 ld-day-try-outs
DTSTART:20260113T231500Z
DTEND:20260114T001500Z
END:VEVENT
END:VCALENDAR
