BEGIN:VCALENDAR
VERSION:2.0
PRODID:SchoolNow
CALSCALE:GREGORIAN
BEGIN:VEVENT
UID:afcc3fbe-fad4-11f0-bba0-0eba787b5a97
DTSTAMP:20260419T130508Z
SUMMARY:Family Feast: Lazy Dog
URL;VALUE=URI:https://www.tusd.org/schools/arnold/calendar/8840668/family-f
 east-lazy-dog
DTSTART;VALUE=DATE:20260126
DTEND;VALUE=DATE:20260129
ATTACH;FILENAME=LazyDog.pdf;FMTTYPE=application/pdf:https://drive.google.co
 m/file/d/1_9EmH4LT_jZ2FtEI4zYBKBdR23Mrfxxh/view?usp=drive_link
END:VEVENT
END:VCALENDAR
