BEGIN:VCALENDAR
VERSION:2.0
PRODID:SchoolNow
CALSCALE:GREGORIAN
BEGIN:VEVENT
UID:afcc3c30-fad4-11f0-a288-0eba787b5a97
DTSTAMP:20260419T130508Z
SUMMARY:Academic Pentathlon Try Outs
URL;VALUE=URI:https://www.tusd.org/schools/arnold/calendar/8840665/academic
 -pentathlon-try-outs
DTSTART:20260115T231500Z
DTEND:20260116T001500Z
END:VEVENT
END:VCALENDAR
