BEGIN:VCALENDAR
VERSION:2.0
PRODID:SchoolNow
CALSCALE:GREGORIAN
BEGIN:VEVENT
UID:d0904c24-db1f-11f0-8417-0e62eba32679
DTSTAMP:20260419T130508Z
SUMMARY:PTA movie Night and Association Meeting
URL;VALUE=URI:https://www.tusd.org/schools/arnold/calendar/8825399/pta-movi
 e-night-and-association-meeting
DTSTART:20260207T013000Z
DTEND:20260207T040000Z
END:VEVENT
END:VCALENDAR
