BEGIN:VCALENDAR
VERSION:2.0
PRODID:SchoolNow
CALSCALE:GREGORIAN
BEGIN:VEVENT
UID:d0904512-db1f-11f0-adf2-0e62eba32679
DTSTAMP:20260419T130508Z
SUMMARY:ELMAC #2
LOCATION:Riviera Elementary School\, 365 Pso De Arena\, Torrance\, CA 90505
 \, USA
URL;VALUE=URI:https://www.tusd.org/schools/arnold/calendar/8825398/elmac-2
DTSTART:20260115T173000Z
DTEND:20260115T183000Z
END:VEVENT
END:VCALENDAR
