BEGIN:VCALENDAR
VERSION:2.0
PRODID:SchoolNow
CALSCALE:GREGORIAN
BEGIN:VEVENT
UID:fe144688-d7ef-11f0-b182-0e357e7d828f
DTSTAMP:20260419T130508Z
SUMMARY:Incoming TK and K Parent Info Day
LOCATION:Torrance High School Auditorium
URL;VALUE=URI:https://www.tusd.org/schools/arnold/calendar/8823333/incoming
 -tk-and-k-parent-info-day
DTSTART:20260110T170000Z
DTEND:20260110T184500Z
ATTACH;FILENAME=TK Info Event Flyer 2026-27.pdf;FMTTYPE=application/pdf:htt
 ps://drive.google.com/file/d/1KB2EqScGQltzD1rvJ23-XOZaY33CQDF6/view?usp=dr
 ive_link
ATTACH;FILENAME=TKK Enrollment 2026 - Spanish.pdf;FMTTYPE=application/pdf:h
 ttps://drive.google.com/file/d/1y7Mga5pn6Kv47eTLGIjGZMbbJbilLDCT/view?usp=
 drive_link
END:VEVENT
END:VCALENDAR
