BEGIN:VCALENDAR
VERSION:2.0
PRODID:SchoolNow
CALSCALE:GREGORIAN
BEGIN:VEVENT
UID:f8b54696-a3cf-11f0-bb3c-0efa94f5927d
DTSTAMP:20260419T130508Z
SUMMARY:Early Out: Parent Conferences + Paper Drive
URL;VALUE=URI:https://www.tusd.org/schools/arnold/calendar/8703873/early-ou
 t-parent-conferences-paper-drive
DTSTART;VALUE=DATE:20260120
DTEND;VALUE=DATE:20260124
ATTACH;FILENAME="Popcorn for Fun, Paper for Learning.png";FMTTYPE=image/png
 :https://drive.google.com/file/d/1LZ_F7ELoXwkN_cT-ffhjg0wjoQV9X-0t/view?us
 p=drive_link
END:VEVENT
END:VCALENDAR
