BEGIN:VCALENDAR
VERSION:2.0
PRODID:SchoolNow
CALSCALE:GREGORIAN
BEGIN:VEVENT
UID:c9614262-9d73-11f0-8e44-0affd2145dcb
DTSTAMP:20260419T130508Z
SUMMARY:NO SCHOOL - Winter Break
URL;VALUE=URI:https://www.tusd.org/schools/arnold/calendar/8677801/no-schoo
 l-winter-break
DTSTART;VALUE=DATE:20251222
DTEND;VALUE=DATE:20260103
END:VEVENT
END:VCALENDAR
